BEGIN:VCALENDAR
VERSION:2.0
PRODID:-//TJz Bar &amp; Restaurant - ECPv6.2.6.1//NONSGML v1.0//EN
CALSCALE:GREGORIAN
METHOD:PUBLISH
X-WR-CALNAME:TJz Bar &amp; Restaurant
X-ORIGINAL-URL:https://tjzcoltonbar.com
X-WR-CALDESC:Events for TJz Bar &amp; Restaurant
REFRESH-INTERVAL;VALUE=DURATION:PT1H
X-Robots-Tag:noindex
X-PUBLISHED-TTL:PT1H
BEGIN:VTIMEZONE
TZID:America/Chicago
BEGIN:DAYLIGHT
TZOFFSETFROM:-0600
TZOFFSETTO:-0500
TZNAME:CDT
DTSTART:20250309T080000
END:DAYLIGHT
BEGIN:STANDARD
TZOFFSETFROM:-0500
TZOFFSETTO:-0600
TZNAME:CST
DTSTART:20251102T070000
END:STANDARD
END:VTIMEZONE
BEGIN:VEVENT
DTSTART;TZID=America/Chicago:20250425T210000
DTEND;TZID=America/Chicago:20250426T010000
DTSTAMP:20260421T052101
CREATED:20250318T163218Z
LAST-MODIFIED:20250318T163218Z
UID:10000214-1745614800-1745629200@tjzcoltonbar.com
SUMMARY:Karaoke Night April 25th 2025 with Dynamix Entertainment
DESCRIPTION:
URL:https://tjzcoltonbar.com/event/karaoke-night-april-25th-2025-with-dynamix-entertainment/
CATEGORIES:Karaoke
ATTACH;FMTTYPE=image/jpeg:https://tjzcoltonbar.com/wp-content/uploads/2025/03/Karaoke-April-25-2025.jpg
END:VEVENT
END:VCALENDAR